BEGIN:VCALENDAR
VERSION:2.0
BEGIN:VEVENT
UID:65A72B69-63CA-4619-9022-6B8837A299A1
DTSTART:20260425T000000Z
DTEND:20260427T000000Z
SUMMARY:Adult sex dolls are more popular with men.
DESCRIPTION:Why are full-sized sex dolls more popular with men? \nMany peop
 le may still wonder why we use sex dolls because they don't think these it
 ems are useful. But if you use it a lot\, you'll know you're happy with th
 e idea. When it comes to the subject\, they feel embarrassed. If you ask m
 e the same question\, I highly recommend you try this sex doll. \nSex doll
 s can alleviate this problem. You can sit back and enjoy the experience. D
 on't be too nervous to control ejaculation. Do you like it too late You ca
 n practice your confess love doll many times to be the perfect companion\,
  you can try different styles and she will never complain. Even those who
  carefully mimic lip movements will never tell you that you're being too h
 arsh or displeased with her. \nYou'll have the confidence you need when it
  comes to making love\, not to mention your spouse or partner will push yo
 ur libido to the pinnacle of success. Some partners don't care about a man
 's feelings and needs. With a realistic love doll\, you will be rewarded w
 ith more in the future. We believe your spouse will love you even more. \n
 So comparing the advantages of silicone dolls VS tpe sex dolls\, which one
  should I buy? \nBriefly introduce the difference between silicone dolls a
 nd TPE dolls. First of all\, sex dolls are not the same in feel as in touc
 h: sex dolls like silicone are usually a bit hard to the touch. Compared w
 ith TPE dolls\, the skin of TPE dolls is soft to the touch. Of course\, si
 licone dolls can be very soft\, but the price will be more expensive\, so
  the prices of many dolls on the website will be different\, so most of th
 e neutral doll manufacturers on the market are using TPE materials to make
  cheap love dolls . \n Second\, different skin quality: better than TPE si
 licone sex dolls\, better performance because the material is slightly har
 der. Some simulated fingerprints and information can only be displayed as
  silicone dolls\, while real dolls and soft TPE have poor performance. Sil
 icone dolls are also much more expensive than TPE soft dolls. TPE soft pla
 stic sex dolls are worth 800-2000 US dollars\, while the price is higher t
 han that of ordinary silicone dolls. A 158cm tpe doll with the same height
  is 1200 US dollars\, and then a 158cm silicone doll costs about 2500 yuan
  or more. related. \nFinally\, whether it is a silicone doll or a TPE soft
  rubber doll\, as long as the product is a professional doll\, safety and
  quality will be guaranteed. If you really care about the quality and safe
 ty of dolls\, then take a look at the sexdollpartner sex dolls shop \, bec
 ause our products are strictly in accordance with safety and hygiene proce
 dures and fully meet the standards. Our sex occasionally has various safet
 y play certifications\, please rest assured Buy. \nThanks for sponsored po
 sts: \n https://real-love-doll.blogspot.com/2023/04/buy-love-dolls-without
 -wasting-money.html \n https://real-love-doll.blogspot.com/2023/04/simulat
 ion-and-real-love-experience.html \n https://real-love-doll.blogspot.com/2
 023/04/getting-familiar-with-cleaning-and.html\nwilly\n2621  Locust View D
 rive\nSan Francisco\, CA 94108 United States\n
LOCATION:2621  Locust View Drive\, San Francisco\, CA 94108
URL:http://losangeles.bubblelife.com/community/sexdollpartner_2/library/351
 8108740/key/3511969484/Adult_sex_dolls_are_more_popular_with_men.
CREATED:20230511T082104Z
LAST-MODIFIED:20230511T082104Z
DTSTAMP:20260425T223813Z
RRULE:FREQ=DAILY;WKST=TH
CLASS:PUBLIC
STATUS:CONFIRMED
TRANSP:TRANSPARENT
SEQUENCE:1
END:VEVENT
END:VCALENDAR
